BEGIN:VCALENDAR
VERSION:2.0
PRODID:-//CHANGE Health - ECPv6.15.20//NONSGML v1.0//EN
CALSCALE:GREGORIAN
METHOD:PUBLISH
X-ORIGINAL-URL:https://changehealth.ca
X-WR-CALDESC:Events for CHANGE Health
REFRESH-INTERVAL;VALUE=DURATION:PT1H
X-Robots-Tag:noindex
X-PUBLISHED-TTL:PT1H
BEGIN:VTIMEZONE
TZID:America/Edmonton
BEGIN:DAYLIGHT
TZOFFSETFROM:-0700
TZOFFSETTO:-0600
TZNAME:MDT
DTSTART:20240310T090000
END:DAYLIGHT
BEGIN:STANDARD
TZOFFSETFROM:-0600
TZOFFSETTO:-0700
TZNAME:MST
DTSTART:20241103T080000
END:STANDARD
BEGIN:DAYLIGHT
TZOFFSETFROM:-0700
TZOFFSETTO:-0600
TZNAME:MDT
DTSTART:20250309T090000
END:DAYLIGHT
BEGIN:STANDARD
TZOFFSETFROM:-0600
TZOFFSETTO:-0700
TZNAME:MST
DTSTART:20251102T080000
END:STANDARD
BEGIN:DAYLIGHT
TZOFFSETFROM:-0700
TZOFFSETTO:-0600
TZNAME:MDT
DTSTART:20260308T090000
END:DAYLIGHT
BEGIN:STANDARD
TZOFFSETFROM:-0600
TZOFFSETTO:-0700
TZNAME:MST
DTSTART:20261101T080000
END:STANDARD
BEGIN:DAYLIGHT
TZOFFSETFROM:-0700
TZOFFSETTO:-0600
TZNAME:MDT
DTSTART:20270314T090000
END:DAYLIGHT
BEGIN:STANDARD
TZOFFSETFROM:-0600
TZOFFSETTO:-0700
TZNAME:MST
DTSTART:20271107T080000
END:STANDARD
END:VTIMEZONE
BEGIN:VEVENT
DTSTART;TZID=America/Edmonton:20250531T120000
DTEND;TZID=America/Edmonton:20250601T150000
DTSTAMP:20260420T180613
CREATED:20250512T193439Z
LAST-MODIFIED:20250512T193439Z
UID:11739-1748692800-1748790000@changehealth.ca
SUMMARY:2 Day Mushroom Foray
DESCRIPTION:REGISTER NOW
URL:https://changehealth.ca/event/2-day-mushroom-foray/
LOCATION:Change Centre\, 54404 Range Road 65\, Gainford\, Alberta\, T0E 0W0\, Canada
END:VEVENT
BEGIN:VEVENT
DTSTART;TZID=America/Edmonton:20250711T160000
DTEND;TZID=America/Edmonton:20250713T170000
DTSTAMP:20260420T180613
CREATED:20250512T194554Z
LAST-MODIFIED:20250512T194554Z
UID:11744-1752249600-1752426000@changehealth.ca
SUMMARY:Growing Resilence Together - An Ecogrief Retreat
DESCRIPTION:REGISTER NOW
URL:https://changehealth.ca/event/growing-resilence-together-an-ecogrief-retreat/
LOCATION:Change Centre\, 54404 Range Road 65\, Gainford\, Alberta\, T0E 0W0\, Canada
END:VEVENT
BEGIN:VEVENT
DTSTART;TZID=America/Edmonton:20250718T170000
DTEND;TZID=America/Edmonton:20250720T170000
DTSTAMP:20260420T180613
CREATED:20250512T190514Z
LAST-MODIFIED:20250512T190514Z
UID:11735-1752858000-1753030800@changehealth.ca
SUMMARY:Introduction to Permaculture & Retreat
DESCRIPTION:Introduction to Permaculture & Retreat – July 18 & 19\, 2025 \nThe Change Centre\, A Rural Retreat Space\, located on the banks of the Pembina River in Treaty Six Territory (1 hour drive from Edmonton) \nThis is a wonderful opportunity to truly dive into the design principles of permaculture while enjoying the beautiful setting of the Change Centre located on the banks of the Pembina River. \nArrive Friday night and partake in a welcoming bonfire as we watch the sunset over the spectacular landscape of this retreat. \nAccommodation consists of 18 bunk beds – (please bring your own bedding and pillows). Tenting and/or RV space is also an option if you would prefer to provide your own dwelling for the weekend. \nAll Meals and 2 nights accommodation included in your Registration Fee @ $635 per person \nFor more details check out Genesis Permaculture \nhttps://www.paypal.com/ncp/payment/DSUPSSZLYY262
URL:https://changehealth.ca/event/introduction-to-permaculture-retreat/
LOCATION:Change Centre\, 54404 Range Road 65\, Gainford\, Alberta\, T0E 0W0\, Canada
END:VEVENT
BEGIN:VEVENT
DTSTART;TZID=America/Edmonton:20250815T090000
DTEND;TZID=America/Edmonton:20250815T150000
DTSTAMP:20260420T180613
CREATED:20250718T214940Z
LAST-MODIFIED:20250724T150626Z
UID:11757-1755248400-1755270000@changehealth.ca
SUMMARY:Adult Health Retreat - 1 Day
DESCRIPTION:Join Dr Doug Klein and the Change Health Team for a great day of wellness at the Change Centre. \nThe goal of these days will be to get away from your regular schedules and have some time to relax at a great space outside Edmonton. \nThe activities will focus on building skills around nutrition\, meal preparation\, light physical activity\, mental health\, and connecting with nature.  Lunch will be provided. \nSponsored spots available upon request.  Transportation from Edmonton possible. \nEmail info@changehealth.ca for inquires.
URL:https://changehealth.ca/event/adult-health-retreat-1-day/
LOCATION:Change Centre\, 54404 Range Road 65\, Gainford\, Alberta\, T0E 0W0\, Canada
CATEGORIES:Health Retreats
ATTACH;FMTTYPE=image/png:https://changehealth.ca/wp-content/uploads/2022/09/Screen-Shot-2022-09-16-at-5.40.13-PM.png
END:VEVENT
BEGIN:VEVENT
DTSTART;TZID=America/Edmonton:20250906T080000
DTEND;TZID=America/Edmonton:20250906T190000
DTSTAMP:20260420T180613
CREATED:20250219T224733Z
LAST-MODIFIED:20250219T224733Z
UID:11549-1757145600-1757185200@changehealth.ca
SUMMARY:10th Annual Healthy Steps for CHANGE
DESCRIPTION:September 6\, 2025 is the 10th Annual Stair Challenge\nBig Anniversary – Big Challenge – 5 million stairs in 1 day\n\nThis is our main fundraiser that helps fund programs that we run year round. This past summer\, Change Adventure Camp provided 7 summer jobs for young Albertans as camp counsellors and diverse preventative health activities for over 200 children. Please help us as we support our children’s growth!  All funds go to supporting low income children and families access programs to build like skills in four areas: 1. Healthy eating and meal preparation 2. Physical Activity 3. Mental Health 4. Social Connection.  All donations are eligible for tax receipts. \n\n\nAs this is the 10th Annual Healthy Steps for Change\, we thought we need a bigger challenge this year.  Rather than the regular 1 million stairs in a single day\, we are raising the bar to 5 million.  This is a total we have never reached.  We will need the whole community to come out and help do some stairs.
URL:https://changehealth.ca/event/10th-annual-healthy-steps-for-change/
LOCATION:Grandview Stairs\, 13909 Fox Dr NW\, Edmonton\, Alberta\, T6H 4P3
CATEGORIES:Fundraisers
ATTACH;FMTTYPE=image/jpeg:https://changehealth.ca/wp-content/uploads/2023/05/CHANGE-steps-edited.jpg
END:VEVENT
BEGIN:VEVENT
DTSTART;TZID=America/Edmonton:20260719T140000
DTEND;TZID=America/Edmonton:20260801T120000
DTSTAMP:20260420T180613
CREATED:20260309T163316Z
LAST-MODIFIED:20260309T163316Z
UID:11814-1784469600-1785585600@changehealth.ca
SUMMARY:Permaculture Design Certificate 2026
DESCRIPTION:Learn From a Designer Who Teaches Worldwide\nYour Instructor – Kenton Zerbin has spent 14 years teaching permaculture across four countries. He brings real-world design experience from Canadian homesteads to tropical food forests. His teaching style is energetic\, hands-on\, and grounded in practical application. \n\n\n14 years teaching permaculture internationally \n\n\nHundreds of workshops and talks delivered \n\n\nFounder of Attainable Sustainable Academy \n\n\nSpend 10 days living and learning on site in a whole-systems design immersion\, taught by certified permaculture instructor Kenton Zerbin. Leave with the skills\, confidence\, and internationally recognized Permaculture Design Certificate to create resilient landscapes wherever you live \nFor more information and to register visit the Edmonton Permaculture Guild
URL:https://changehealth.ca/event/permaculture-design-certificate-2026/
END:VEVENT
BEGIN:VEVENT
DTSTART;TZID=America/Edmonton:20260912T080000
DTEND;TZID=America/Edmonton:20260912T190000
DTSTAMP:20260420T180613
CREATED:20260309T161512Z
LAST-MODIFIED:20260309T163405Z
UID:11811-1789200000-1789239600@changehealth.ca
SUMMARY:11th Annual Healthy Steps for CHANGE
DESCRIPTION:September 12\, 2026 is the 11th Annual Stair Challenge\n\nThis is our main fundraiser that helps fund programs that we run year round. This past summer\, Change Adventure Camp provided 7 summer jobs for young Albertans as camp counsellors and diverse preventative health activities for over 200 children. Please help us as we support our children’s growth!  All funds go to supporting low income children and families access programs to build like skills in four areas: 1. Healthy eating and meal preparation 2. Physical Activity 3. Mental Health 4. Social Connection.  All donations are eligible for tax receipts. 
URL:https://changehealth.ca/event/11th-annual-healthy-steps-for-change/
LOCATION:Grandview Stairs\, 13909 Fox Dr NW\, Edmonton\, Alberta\, T6H 4P3
CATEGORIES:Fundraisers
ATTACH;FMTTYPE=image/jpeg:https://changehealth.ca/wp-content/uploads/2023/05/CHANGE-steps-edited.jpg
END:VEVENT
END:VCALENDAR